BEGIN:VCALENDAR
VERSION:2.0
PRODID:-//ChamberMaster//Event Calendar 2.0//EN
METHOD:PUBLISH
X-PUBLISHED-TTL:P3D
REFRESH-INTERVAL:P3D
CALSCALE:GREGORIAN
BEGIN:VEVENT
DTSTART:20190717T160000Z
DTEND:20190718T010000Z
X-MICROSOFT-CDO-ALLDAYEVENT:FALSE
SUMMARY:HOM Furniture/Gabberts/Dock 86 Hiring Event July 17 and 18\, 2019
DESCRIPTION:The Coon Rapids\, Lakeville\, Little Canada and Plymouth showrooms will be interviewing for sales\, interior designers\, guest services\, warehouse and more!\n\n\n\nHOM has an excellent benefits package\, excellent training programs\, employee discounts\, fun work environment\, and promotes from within!\n\n\n\nSee https://careers.homfurniture.com for position descriptions.
X-ALT-DESC;FMTTYPE=text/html:The Coon Rapids\, Lakeville\, Little Canada and Plymouth showrooms will be interviewing for sales\, interior designers\, guest services\, warehouse and more!<br />\n<br />\nHOM has an excellent benefits package\, excellent training programs\, employee discounts\, fun work environment\, and promotes from within!<br />\n<br />\nSee https://careers.homfurniture.com for position descriptions.
LOCATION:HOM Furniture Coon Rapids Showroom: 10301 Woodcrest Drive NW\, Coon Rapids\, MN 55433.
UID:e.380.190693
SEQUENCE:3
DTSTAMP:20260420T004451Z
URL:http://members.metronorthchamber.org/events/details/hom-furniture-gabberts-dock-86-hiring-event-july-17-and-18-2019-190693
END:VEVENT

END:VCALENDAR
