BEGIN:VCALENDAR
VERSION:2.0
PRODID:-//ChamberMaster//Event Calendar 2.0//EN
METHOD:PUBLISH
X-PUBLISHED-TTL:P3D
REFRESH-INTERVAL:P3D
CALSCALE:GREGORIAN
BEGIN:VEVENT
DTSTART:20190326T000000Z
DTEND:20190326T003000Z
X-MICROSOFT-CDO-ALLDAYEVENT:FALSE
SUMMARY:Holistic Pet Care Series
DESCRIPTION:Want to be able to connect better with your pet through all aspects of their care? Join us for a livestream Zoom class that you and your pet can participate in from the comfort of your own home! No worries if you missed the first session -- you can participate in session 2 and/or 3.\n\n\n\nSession 1 (3/11): Massage/Handling Tips and Tricks\n\nSession 2 (3/18): Nutritional Ideas\n\nSession 3 (3/25): Q & A with Participants and an Animal Chiropractic Demonstration\n\n\n\nCost is $10 per class.\n\nAfter you register for the class\, you will receive Zoom class information via email.
X-ALT-DESC;FMTTYPE=text/html:<p>Want to be able to connect better with your pet through all aspects of their care? Join us for a livestream Zoom class that you and your pet can participate in from the comfort of your own home! No worries if you missed the first session -- you can participate in session 2 and/or 3.<br />\n<br />\n<s>Session 1 (3/11): Massage/Handling Tips and Tricks</s><br />\nSession 2 (3/18): Nutritional Ideas<br />\nSession 3 (3/25): Q &amp\; A with Participants and an Animal Chiropractic Demonstration<br />\n<br />\nCost is $10 per class.</p>\n\n<p>After you register for the class\, you will receive Zoom class information via email.</p>\n
LOCATION:Online livestream Zoom class
UID:e.380.188839
SEQUENCE:3
DTSTAMP:20260420T074133Z
URL:http://members.metronorthchamber.org/events/details/holistic-pet-care-series-03-25-2019-188839
END:VEVENT

END:VCALENDAR
