BEGIN:VCALENDAR
VERSION:2.0
PRODID:-//ChamberMaster//Event Calendar 2.0//EN
METHOD:PUBLISH
X-PUBLISHED-TTL:P3D
REFRESH-INTERVAL:P3D
CALSCALE:GREGORIAN
BEGIN:VEVENT
DTSTART:20181127T000000Z
DTEND:20181127T010000Z
X-MICROSOFT-CDO-ALLDAYEVENT:FALSE
SUMMARY:Holiday Sample Party
DESCRIPTION:Join us to sample some holiday hot drinks and other treats!!
X-ALT-DESC;FMTTYPE=text/html:<span style="color: rgb(29\, 33\, 41)\; font-family: Helvetica\, Arial\, sans-serif\; font-size: 14px\; background-color: rgb(255\, 255\, 255)\;">Join us to sample some holiday hot drinks and other treats!!</span>
LOCATION:The Healthy Boulevard Riverdale Commons\, 12475 Riverdale Blvd. Ste F\, Coon Rapids\, Minnesota 55433
UID:e.380.187463
SEQUENCE:3
DTSTAMP:20260420T121137Z
URL:http://members.metronorthchamber.org/events/details/holiday-sample-party-187463
END:VEVENT

END:VCALENDAR
