BEGIN:VCALENDAR
VERSION:2.0
PRODID:-//ChamberMaster//Event Calendar 2.0//EN
METHOD:PUBLISH
X-PUBLISHED-TTL:P3D
REFRESH-INTERVAL:P3D
CALSCALE:GREGORIAN
BEGIN:VEVENT
DTSTART:20141213T180000Z
DTEND:20141214T220000Z
X-MICROSOFT-CDO-ALLDAYEVENT:FALSE
SUMMARY:Holiday Sale Event
DESCRIPTION:Holiday Sale Event\n\nUp to 40% off select fireplaces!!!  Come check out our wide selection of Regency wood and gas fireplaces\, inserts and stoves.  Whether you are looking to add warmth to your home\, reduce your heating bill\, or add ambiance to your home\, we have the perfect fireplace\, insert or stove for your home or cabin! \n\nBring in a donation to Toys for Tots and receive a coupon for $100 off your fireplace purchase\, or $30 off a chimney sweep and inspection!\n\nBring the whole family and take pictures with Santa while enjoying free hot chocolate and cookies!
X-ALT-DESC;FMTTYPE=text/html:<span style="font-size: 14px\;"><span style="font-size: 16px\;">Holiday Sale Event</span><br />\n<span style="font-size: 12px\;"><span style="font-size: 14px\;">Up to 40% off select fireplaces!!!</span>&nbsp\; Come check out our wide selection of Regency wood and gas fireplaces\, inserts and stoves.&nbsp\; Whether you are looking to add warmth to your home\, reduce your heating bill\, or add ambiance to your home\, we have the perfect fireplace\, insert or stove for your home or cabin!&nbsp\;<br />\nBring in a donation to Toys for Tots and receive a coupon for $100 off your fireplace purchase\, or $30 off a chimney sweep and inspection!<br />\nBring the whole family and take pictures with Santa while enjoying&nbsp\;free hot chocolate and cookies!</span></span><br />\n&nbsp\;
LOCATION:Custom Fireplace and Chimney Care 9696 University Ave NW Coon Rapids\, MN 55448
UID:e.380.152148
SEQUENCE:3
DTSTAMP:20260423T174056Z
URL:http://members.metronorthchamber.org/events/details/holiday-sale-event-12-13-2014-152148
END:VEVENT

END:VCALENDAR
