BEGIN:VCALENDAR
VERSION:2.0
PRODID:-//ChamberMaster//Event Calendar 2.0//EN
METHOD:PUBLISH
X-PUBLISHED-TTL:P3D
REFRESH-INTERVAL:P3D
CALSCALE:GREGORIAN
BEGIN:VEVENT
DTSTART:20170920T220000Z
DTEND:20170921T000000Z
X-MICROSOFT-CDO-ALLDAYEVENT:FALSE
SUMMARY:Holiday Preview Party @ Bowlero Blaine
DESCRIPTION:We would like to invite you to see how Bowlero does the Holiday season! With complimentary food made from scratch from our world class chefs\, specialty cocktails and fun you are cordially invited to our preview party. Please RSVP by Wednesday\, September 13th to reserve your spot and up to 4 guests to jcolleen@bowlmor-amf.com.\n\n\n\nWe are offering 20% off your holiday party if you book with us for attending our preview party!
X-ALT-DESC;FMTTYPE=text/html:We would like to invite you to see how Bowlero does the Holiday season! With complimentary food made from scratch from our world class chefs\, specialty cocktails and fun you are cordially invited to our preview party. Please RSVP by Wednesday\, September 13th to reserve your spot and up to 4 guests to jcolleen@bowlmor-amf.com.<br />\n<br />\nWe are offering 20% off your holiday party if you book with us for attending our preview party!
LOCATION:11351 Ulysses St NE\, Blaine MN 55434
UID:e.380.176718
SEQUENCE:3
DTSTAMP:20260421T095910Z
URL:http://members.metronorthchamber.org/events/details/holiday-preview-party-bowlero-blaine-176718
END:VEVENT

END:VCALENDAR
