BEGIN:VCALENDAR
VERSION:2.0
PRODID:-//ChamberMaster//Event Calendar 2.0//EN
METHOD:PUBLISH
X-PUBLISHED-TTL:P3D
REFRESH-INTERVAL:P3D
CALSCALE:GREGORIAN
BEGIN:VEVENT
DTSTART:20180919T220000Z
DTEND:20180920T000000Z
X-MICROSOFT-CDO-ALLDAYEVENT:FALSE
SUMMARY:Holiday Preview Party
DESCRIPTION:Please Save the Date for Bowlero's Holiday Preview Party! Wednesday\, September 19th at Bowlero   Blaine\, MN!\n\nFeaturing:\n\nUnlimited Bowling\, Premium Bar Package\, Replenished Hors d'oeuvres\, Arcade and Laser Tag\, Center Tours\, Special 20% Off Holiday Promotion\n\nRSVP with Jen Colleen at jcolleen@bowlerocorp.com by Friday\, September 14th  to save your spot!
X-ALT-DESC;FMTTYPE=text/html:<p>Please Save the Date for Bowlero&rsquo\;s Holiday Preview Party! Wednesday\, September 19th at Bowlero &ndash\; Blaine\, MN!</p>\n\n<p>Featuring:</p>\n\n<p>Unlimited Bowling\, Premium Bar Package\, Replenished Hors d&#39\;oeuvres\, Arcade and Laser Tag\, Center Tours\, Special 20% Off Holiday Promotion</p>\n\n<p>RSVP with Jen Colleen at jcolleen@bowlerocorp.com&nbsp\;by Friday\, September 14th&nbsp\; to save your spot!</p>\n
LOCATION:11351 Ulysses St NE Blaine\, MN 55434
UID:e.380.186902
SEQUENCE:3
DTSTAMP:20260420T152340Z
URL:http://members.metronorthchamber.org/events/details/holiday-preview-party-186902
END:VEVENT

END:VCALENDAR
