BEGIN:VCALENDAR
VERSION:2.0
PRODID:-//ChamberMaster//Event Calendar 2.0//EN
METHOD:PUBLISH
X-PUBLISHED-TTL:P3D
REFRESH-INTERVAL:P3D
CALSCALE:GREGORIAN
BEGIN:VEVENT
DTSTART:20171201T210000Z
DTEND:20171202T020000Z
X-MICROSOFT-CDO-ALLDAYEVENT:FALSE
SUMMARY:Holiday Open House
DESCRIPTION:Beautiful Holiday Selections!\n\nGreat Prize Drawings\n\nRefreshments\n\n20% off item with pictured card (not valid with other coupons\, weddings  & wire out)
X-ALT-DESC;FMTTYPE=text/html:Beautiful Holiday Selections!<br />\nGreat Prize Drawings<br />\nRefreshments<br />\n20% off item with pictured card (not valid with other coupons\, weddings&nbsp\; &amp\; wire out)
LOCATION:1542 125th Ave NE Blaine
UID:e.380.179498
SEQUENCE:3
DTSTAMP:20260421T051618Z
URL:http://members.metronorthchamber.org/events/details/holiday-open-house-179498
END:VEVENT

END:VCALENDAR
