BEGIN:VCALENDAR
VERSION:2.0
PRODID:-//ChamberMaster//Event Calendar 2.0//EN
METHOD:PUBLISH
X-PUBLISHED-TTL:P3D
REFRESH-INTERVAL:P3D
CALSCALE:GREGORIAN
BEGIN:VEVENT
DTSTART:20190724T210000Z
DTEND:20190725T000000Z
X-MICROSOFT-CDO-ALLDAYEVENT:FALSE
SUMMARY:Holiday Open House
DESCRIPTION:Eat\, Drink\, and Be Merry! \n\n\n\nJoin us for a Holiday Open House and experience all Bunker Hills Event Center has to offer! \n\nRefreshments will be served. \n\n\n\nRSVP to sales@bunkerhillseventcenter.com or call 763.951.7276. \n\n\n\nBook your Holiday Party by September 30th and receive $200 in gift certificates*\n\nRestrictions apply
X-ALT-DESC;FMTTYPE=text/html:Eat\, Drink\, and Be Merry!&nbsp\;<br />\n<br />\nJoin us for a Holiday Open House and experience all Bunker Hills Event Center has to offer!&nbsp\;<br />\nRefreshments will be served.&nbsp\;<br />\n<br />\nRSVP to sales@bunkerhillseventcenter.com or call 763.951.7276.&nbsp\;<br />\n<br />\nBook your Holiday Party by September 30th and receive $200 in gift certificates*<br />\n<span style="font-size:8px"><em>Restrictions apply</em></span>
LOCATION:12800 Bunker Prairie Road Coon Rapids\, MN 55448
UID:e.380.190670
SEQUENCE:3
DTSTAMP:20260420T002847Z
URL:http://members.metronorthchamber.org/events/details/holiday-open-house-07-24-2019-190670
END:VEVENT

END:VCALENDAR
