BEGIN:VCALENDAR
VERSION:2.0
PRODID:-//ChamberMaster//Event Calendar 2.0//EN
METHOD:PUBLISH
X-PUBLISHED-TTL:P3D
REFRESH-INTERVAL:P3D
CALSCALE:GREGORIAN
BEGIN:VEVENT
DTSTART:20151215T224500Z
DTEND:20151216T003000Z
X-MICROSOFT-CDO-ALLDAYEVENT:FALSE
SUMMARY:Holiday Hoopla
DESCRIPTION:2015 Holiday Hoopla\n\n\n\nTake a break from all the holiday hoopla & join us at Kendall's (formerly Bunker Hills Bar & Grill) for some appetizers\, wine and beer tasting and of course\, great conversation. Thanks Oakwood Insurance Agency - Jeremy Sogn for sponsorship!
X-ALT-DESC;FMTTYPE=text/html:2015 Holiday Hoopla<br />\n<br />\n<span style="color: rgb(51\, 51\, 51)\; line-height: 18.9px\; font-family: sans-serif\, Arial\, Verdana\, &quot\;Trebuchet MS&quot\;\; font-size: 13px\; background-color: rgb(255\, 255\, 255)\;">Take a break from all the holiday hoopla &amp\; join us at Kendall&#39\;s (formerly Bunker Hills Bar &amp\; Grill)</span><span style="color: rgb(51\, 51\, 51)\; line-height: 18.9px\; font-family: sans-serif\, Arial\, Verdana\, &quot\;Trebuchet MS&quot\;\; font-size: 13px\; background-color: rgb(255\, 255\, 255)\;">&nbsp\;for some appetizers\, wine and beer tasting and of course\, great conversation.&nbsp\;Thanks Oakwood Insurance Agency&nbsp\;- Jeremy Sogn for sponsorship!</span>
LOCATION:Kendall's Tavern & Chophouse 12800 Bunker Prairie Road Coon Rapids
UID:e.380.159632
SEQUENCE:3
DTSTAMP:20260422T205655Z
URL:http://members.metronorthchamber.org/events/details/holiday-hoopla-12-15-2015-159632
END:VEVENT

END:VCALENDAR
