BEGIN:VCALENDAR
VERSION:2.0
PRODID:-//ChamberMaster//Event Calendar 2.0//EN
METHOD:PUBLISH
X-PUBLISHED-TTL:P3D
REFRESH-INTERVAL:P3D
CALSCALE:GREGORIAN
BEGIN:VEVENT
DTSTART:20141209T223000Z
DTEND:20141210T000000Z
X-MICROSOFT-CDO-ALLDAYEVENT:FALSE
SUMMARY:Holiday Hoopla
DESCRIPTION:Take a break from all the holiday hoopla & join us at Bonfire Woodfire Grill for some appetizers & great conversation. Everyone who attends is eligible for some great door prizes - it's like holiday shopping without the shopping!
X-ALT-DESC;FMTTYPE=text/html:Take a break from all the holiday hoopla &amp\; join us at&nbsp\;Bonfire Woodfire Grill&nbsp\;for some appetizers &amp\; great conversation. Everyone who attends is eligible for some great door prizes - it&#39\;s like holiday shopping without the shopping!
LOCATION:Bonfire Woodfire Grill 4365 Pheasant Ridge Dr Blaine (763) 398-2475
UID:e.380.151916
SEQUENCE:3
DTSTAMP:20260423T174153Z
URL:http://members.metronorthchamber.org/events/details/holiday-hoopla-12-09-2014-151916
END:VEVENT

END:VCALENDAR
