BEGIN:VCALENDAR
VERSION:2.0
PRODID:-//ChamberMaster//Event Calendar 2.0//EN
METHOD:PUBLISH
X-PUBLISHED-TTL:P3D
REFRESH-INTERVAL:P3D
CALSCALE:GREGORIAN
BEGIN:VEVENT
DTSTART:20181215T160000Z
DTEND:20181215T220000Z
X-MICROSOFT-CDO-ALLDAYEVENT:FALSE
SUMMARY:Holiday Boutique at McMillan Apartments
DESCRIPTION:Complimentary photos with Santa 12:00 - 3:00\n\nShop for your holiday gifts and support local artisans!\n\n\n\nCandles\, POTTERY\, SKIN CARE\n\nJEWELRY\, Clothing\, ART Greeting Cards and other handmade items!
X-ALT-DESC;FMTTYPE=text/html:Complimentary photos with Santa 12:00 - 3:00<br />\nShop for your holiday gifts and support local artisans!<br />\n<br />\nCandles\, POTTERY\, SKIN CARE<br />\nJEWELRY\, Clothing\, ART Greeting Cards and other handmade items!
LOCATION:McMillan Apartments 157 Grass Lake Place\, Shoreview MN 55126 (651) 484-0055
UID:e.380.187536
SEQUENCE:3
DTSTAMP:20260420T121608Z
URL:http://members.metronorthchamber.org/events/details/holiday-boutique-at-mcmillan-apartments-187536
END:VEVENT

END:VCALENDAR
