BEGIN:VCALENDAR
VERSION:2.0
PRODID:-//ChamberMaster//Event Calendar 2.0//EN
METHOD:PUBLISH
X-PUBLISHED-TTL:P3D
REFRESH-INTERVAL:P3D
CALSCALE:GREGORIAN
BEGIN:VEVENT
DTSTART:20150629T134500Z
DTEND:20150629T140000Z
X-MICROSOFT-CDO-ALLDAYEVENT:FALSE
SUMMARY:Hobby Lobby - Ribbon Cutting
DESCRIPTION:Ribbon cutting to celebrate the grand opening of Hobby Lobby at Northtown Mall in Blaine.
X-ALT-DESC;FMTTYPE=text/html:Ribbon cutting to celebrate the grand opening of Hobby Lobby at Northtown&nbsp\;Mall in Blaine.
LOCATION:Northtown Mall 111 Northtown Drive NE Blaine\, MN 55434
UID:e.380.157805
SEQUENCE:3
DTSTAMP:20260423T072149Z
URL:http://members.metronorthchamber.org/events/details/hobby-lobby-ribbon-cutting-06-29-2015-157805
END:VEVENT

END:VCALENDAR
