BEGIN:VCALENDAR
VERSION:2.0
PRODID:-//ChamberMaster//Event Calendar 2.0//EN
METHOD:PUBLISH
X-PUBLISHED-TTL:P3D
REFRESH-INTERVAL:P3D
CALSCALE:GREGORIAN
BEGIN:VEVENT
DTSTART:20180722T180000Z
DTEND:20180722T220000Z
X-MICROSOFT-CDO-ALLDAYEVENT:FALSE
SUMMARY:Historic Home & Garden Tour
DESCRIPTION:Historic Home and Garden Tour\n\n\nSunday\, July 22\, 2018\nRamble back in time with a look at the historic homes and beautiful gardens of Fridley. Discover homes rebuilt after the 1965 tornadoes demolished one in every four Fridley homes\, and see a few that survived unscathed. See the shelters where residents took refuge from those storms and featured rooms such as a vaulted sunroom with a pipe-organ. Guests and homeowners will be available at several sites to answer questions and give advice on remodeling\, conservation or gardening techniques. Proceeds benefit the Fridley Historical Society and the Anoka County Historical Society.
X-ALT-DESC;FMTTYPE=text/html:<h2 id="ctl00_ctl00_MainContent_ModuleContent_ctl00_ctl03_eventTitle" style="box-sizing: content-box\; margin: 0px 0px 3px\; padding: 0px 50px 0px 0px\; border: 0px\; outline: 0px\; font-size: 15pt\; font-family: inherit\; vertical-align: baseline\;"><span itemprop="name" style="box-sizing: content-box\; margin: 0px\; padding: 0px\; border: 0px\; font-size: 14.4px\; font-family: Arial\; vertical-align: baseline\; outline: 0px\; color: rgb(51\, 51\, 51)\; background-color: rgb(255\, 255\, 255)\;">Historic Home and Garden Tour</span></h2>\n\n<div class="detailDateDesc" style="box-sizing: content-box\; margin: 0px\; padding: 0px 0px 0px 60px\; border: 0px\; outline: 0px\; font-size: 14.4px\; font-family: Arial\; vertical-align: baseline\; background: url(&quot\;/common/images/Calendar/CalendarModuleIconSmall.png&quot\;) 0px 5px no-repeat rgb(255\, 255\, 255)\; min-height: 55px\; color: rgb(51\, 51\, 51)\;">\n<h3 id="ctl00_ctl00_MainContent_ModuleContent_ctl00_ctl03_eventDate" style="box-sizing: content-box\; margin: 0px\; padding: 0px\; border: 0px\; outline: 0px\; font-size: 1em\; font-family: inherit\; vertical-align: baseline\; color: rgb(140\, 175\, 58)\;">Sunday\, July 22\, 2018</h3>\nRamble back in time with a look at the historic homes and beautiful gardens of Fridley. Discover homes rebuilt after the 1965 tornadoes demolished one in every four Fridley homes\, and see a few that survived unscathed. See the shelters where residents took refuge from those storms and featured rooms such as a vaulted sunroom with a pipe-organ. Guests and homeowners will be available at several sites to answer questions and give advice on remodeling\, conservation or gardening techniques. Proceeds benefit the Fridley Historical Society and the Anoka County Historical Society.</div>\n
LOCATION:July 22\, 2018 Time: 1:00 PM - 5:00 PM Location: Fridley History Center Address: 611 Mississippi St NE Fridley\, MN 55432 Contact: 763-421-0600 Cost: $12 in advance\, or $15 the day of the tour Link: Tickets available online through Anoka County Historical Society
UID:e.380.184882
SEQUENCE:3
DTSTAMP:20260420T182811Z
URL:http://members.metronorthchamber.org/events/details/historic-home-garden-tour-184882
END:VEVENT

END:VCALENDAR
