BEGIN:VCALENDAR
VERSION:2.0
PRODID:-//ChamberMaster//Event Calendar 2.0//EN
METHOD:PUBLISH
X-PUBLISHED-TTL:P3D
REFRESH-INTERVAL:P3D
CALSCALE:GREGORIAN
BEGIN:VEVENT
DTSTART;VALUE=DATE:20181011
DTEND;VALUE=DATE:20181012
TRANSP:TRANSPARENT
X-MICROSOFT-CDO-ALLDAYEVENT:TRUE
SUMMARY:Herbalife Open House - The Healthy Boulevard
DESCRIPTION:Come join us Thursday evening and learn more about how you can feel incredible! Also we have a section on how to make supplemental income around what you are currently doing!! Come listen in!
X-ALT-DESC;FMTTYPE=text/html:<span style="color: rgb(29\, 33\, 41)\; font-family: Helvetica\, Arial\, sans-serif\; font-size: 14px\; background-color: rgb(255\, 255\, 255)\;">Come join us Thursday evening and learn more about how you can feel incredible! Also we have a section on how to make supplemental income around what you are currently doing!! Come listen in!</span>
LOCATION:Riverdale Commons\, 12475 Riverdale Blvd. Ste F Coon Rapids\, Minnesota 55433
UID:e.380.187296
SEQUENCE:3
DTSTAMP:20260420T141144Z
URL:http://members.metronorthchamber.org/events/details/herbalife-open-house-the-healthy-boulevard-187296
END:VEVENT

END:VCALENDAR
