BEGIN:VCALENDAR
VERSION:2.0
PRODID:-//ChamberMaster//Event Calendar 2.0//EN
METHOD:PUBLISH
X-PUBLISHED-TTL:P3D
REFRESH-INTERVAL:P3D
CALSCALE:GREGORIAN
BEGIN:VEVENT
DTSTART:20151120T000000Z
DTEND:20151120T010000Z
X-MICROSOFT-CDO-ALLDAYEVENT:FALSE
SUMMARY:Helathsense Tech Demo Open House
DESCRIPTION:Healthsense Technology Demonstration Open House at Autumn Glen Senior Living\n\nJoin us for refreshments and the benefit of having your loved-ones health and wellness needs provided for and the advantages of this state-of-the art technology. This is one of the many reasons families choose Autumn Glen!\n\nThurs. November 19th (6pm-7pm)\n\nRSVP's Appreciated\n\n763-772-4492
X-ALT-DESC;FMTTYPE=text/html:<p>Healthsense Technology Demonstration Open House at Autumn Glen Senior Living</p>\n\n<p>Join us for refreshments and the benefit of having your loved-ones health and wellness needs provided for and the advantages of this state-of-the art technology.&nbsp\;<em>This is one of the many reasons families choose Autumn Glen!</em></p>\n\n<p>Thurs. November 19th (6pm-7pm)</p>\n\n<p>RSVP&rsquo\;s Appreciated</p>\n\n<p>763-772-4492</p>\n
LOCATION:3715 Coon Rapids Blvd
UID:e.380.159829
SEQUENCE:3
DTSTAMP:20260422T221558Z
URL:http://members.metronorthchamber.org/events/details/helathsense-tech-demo-open-house-11-19-2015-159829
END:VEVENT

END:VCALENDAR
