BEGIN:VCALENDAR
VERSION:2.0
PRODID:-//ChamberMaster//Event Calendar 2.0//EN
METHOD:PUBLISH
X-PUBLISHED-TTL:P3D
REFRESH-INTERVAL:P3D
CALSCALE:GREGORIAN
BEGIN:VEVENT
DTSTART:20191114T003000Z
DTEND:20191114T023000Z
X-MICROSOFT-CDO-ALLDAYEVENT:FALSE
SUMMARY:Healthy Living Seminar for People and Pets ( Class is for People Only)
DESCRIPTION:Must RSVP to Caninecrossingmn@yahoo.com   Class is for People Only.\n\n	Includes Food and Drink\n	Making a DIY pallet Project (Next door to Canine Crossing at Boardwalk DIY\n	15 % discount at Canine Crossing at the end of the event
X-ALT-DESC;FMTTYPE=text/html:Must RSVP to Caninecrossingmn@yahoo.com&nbsp\; &nbsp\;Class is for People Only.\n<ul>\n	<li>Includes Food and Drink</li>\n	<li>Making a DIY pallet Project (Next door to Canine Crossing at Boardwalk DIY</li>\n	<li>15 % discount at Canine Crossing at the end of the event</li>\n</ul>\n
LOCATION:Canine Crossing 1574 154th Ave NW Andover\, MN 55304
UID:e.380.191681
SEQUENCE:3
DTSTAMP:20260419T162614Z
URL:http://members.metronorthchamber.org/events/details/healthy-living-seminar-for-people-and-pets-191681
END:VEVENT

END:VCALENDAR
