BEGIN:VCALENDAR
VERSION:2.0
PRODID:-//ChamberMaster//Event Calendar 2.0//EN
METHOD:PUBLISH
X-PUBLISHED-TTL:P3D
REFRESH-INTERVAL:P3D
CALSCALE:GREGORIAN
BEGIN:VEVENT
DTSTART:20160623T180000Z
DTEND:20160623T190000Z
X-MICROSOFT-CDO-ALLDAYEVENT:FALSE
SUMMARY:Healthy Eating For Seniors
DESCRIPTION:Join us and learn more about healthy eating for seniors!  Registered Dietition\, Nicole Smith from Guardian Angels Senior Services will discuss healthy eating\, blalncing your life one choice at a time\, and the 5 key elements to living a healthy lifestyle.
X-ALT-DESC;FMTTYPE=text/html:Join us and learn more about healthy eating for seniors! &nbsp\;Registered Dietition\, Nicole Smith from Guardian Angels Senior Services will discuss healthy eating\, blalncing your life one choice at a time\, and the 5 key elements to living a healthy lifestyle.
LOCATION:3715 Coon Rapids Blvd NW Coon Rapids MN
UID:e.380.168622
SEQUENCE:3
DTSTAMP:20260422T103137Z
URL:http://members.metronorthchamber.org/events/details/healthy-eating-for-seniors-06-23-2016-168622
END:VEVENT

END:VCALENDAR
