BEGIN:VCALENDAR
VERSION:2.0
PRODID:-//ChamberMaster//Event Calendar 2.0//EN
METHOD:PUBLISH
X-PUBLISHED-TTL:P3D
REFRESH-INTERVAL:P3D
CALSCALE:GREGORIAN
BEGIN:VEVENT
DTSTART:20160623T180000Z
DTEND:20160623T190000Z
X-MICROSOFT-CDO-ALLDAYEVENT:FALSE
SUMMARY:Healthy Eating for Seniors!
DESCRIPTION:Please join us for Helathy Eating for Seniors\n\nFree Community Event at Autumn Glen Senior Living\n\nLearn about balancing Your Life!\n\n-One choice at a time\n\n-Why do we eat?\n\n-The 5 key elements to a healthy lifestyle and more!\n\n\n\nAutumn Glen Senior Living -voted Readers Choice BEST  Assisted Living and Memory Care.\n\nCome to learn more and Take a Tour!
X-ALT-DESC;FMTTYPE=text/html:Please join us for Helathy Eating for Seniors<br />\nFree Community Event at Autumn Glen Senior Living<br />\nLearn about balancing Your Life!<br />\n-One choice at a time<br />\n-Why do we eat?<br />\n-The 5 key elements to a healthy lifestyle and more!<br />\n<br />\nAutumn Glen Senior Living -voted Readers Choice BEST &nbsp\;Assisted Living and Memory Care.<br />\nCome to learn more and Take a Tour!
LOCATION:3715 Coon Rapids Blvd NW Coon Rapids\, MN 55433
UID:e.380.168454
SEQUENCE:3
DTSTAMP:20260422T103245Z
URL:http://members.metronorthchamber.org/events/details/healthy-eating-for-seniors-06-23-2016-168454
END:VEVENT

END:VCALENDAR
