BEGIN:VCALENDAR
VERSION:2.0
PRODID:-//ChamberMaster//Event Calendar 2.0//EN
METHOD:PUBLISH
X-PUBLISHED-TTL:P3D
REFRESH-INTERVAL:P3D
CALSCALE:GREGORIAN
BEGIN:VEVENT
DTSTART:20140131T000000Z
DTEND:20140131T020000Z
X-MICROSOFT-CDO-ALLDAYEVENT:FALSE
SUMMARY:Health to you boutique
DESCRIPTION:"New Year..... New You" boutique  \n\nA night focused on health with wellness\n\nMany wonderful health related vendors like\n\nAva Anderson\, Norwex\, pink zebra\, thirty-one\,\n\nPampered chef\, Take Shape For Life\n\nCookie Lee\, Doterra\,......\n\n\n\nThis night of health \n\nRockwood Place\n\n 2259 Rockwood Ave\n\n (Community room)\n\nSt. Paul\, Mn 55116\n\nFrom 6:00 - 8:00 pm\n\n\n\nRSVP. @763-355-2032
X-ALT-DESC;FMTTYPE=text/html:<strong>&quot\;New Year..... New You&quot\; boutique </strong>&nbsp\;<br />\nA night focused on health with wellness<br />\nMany wonderful health related vendors like<br />\nAva Anderson\, Norwex\, pink zebra\, thirty-one\,<br />\nPampered chef\, Take Shape For Life<br />\nCookie Lee\, Doterra\,......<br />\n<br />\nThis night of health&nbsp\;<br />\nRockwood Place<br />\n&nbsp\;2259 Rockwood Ave<br />\n&nbsp\;(Community room)<br />\nSt. Paul\, Mn 55116<br />\nFrom 6:00 - 8:00 pm<br />\n<br />\nRSVP. @763-355-2032<br />\n<br />\n
LOCATION:Rockwood Place 2259 Rockwood Ave St. Paul\, Mn 55116
UID:e.380.150101
SEQUENCE:3
DTSTAMP:20260424T093407Z
URL:http://members.metronorthchamber.org/events/details/health-to-you-boutique-01-30-2014-150101
END:VEVENT

END:VCALENDAR
