BEGIN:VCALENDAR
VERSION:2.0
PRODID:-//ChamberMaster//Event Calendar 2.0//EN
METHOD:PUBLISH
X-PUBLISHED-TTL:P3D
REFRESH-INTERVAL:P3D
CALSCALE:GREGORIAN
BEGIN:VEVENT
DTSTART:20141119T000000Z
DTEND:20141119T003000Z
X-MICROSOFT-CDO-ALLDAYEVENT:FALSE
SUMMARY:Health made simple think well
DESCRIPTION:Are you sick and tired or being sick and tired?\n\n\n\nJoin us for simple tips to make stress melt away.
X-ALT-DESC;FMTTYPE=text/html:Are you sick and tired or being sick and tired?<br />\n<br />\nJoin us for simple tips to make stress melt away.
LOCATION:HealthSource of Blaine 10904 Baltimore st NE Blaine MN 55449
UID:e.380.151528
SEQUENCE:3
DTSTAMP:20260423T175200Z
URL:http://members.metronorthchamber.org/events/details/health-made-simple-think-well-11-18-2014-151528
END:VEVENT

END:VCALENDAR
