BEGIN:VCALENDAR
VERSION:2.0
PRODID:-//ChamberMaster//Event Calendar 2.0//EN
METHOD:PUBLISH
X-PUBLISHED-TTL:P3D
REFRESH-INTERVAL:P3D
CALSCALE:GREGORIAN
BEGIN:VEVENT
DTSTART:20140916T230000Z
DTEND:20140916T233000Z
X-MICROSOFT-CDO-ALLDAYEVENT:FALSE
SUMMARY:Health made simple eat well
DESCRIPTION:At HealthSource\, we understand how hard maintaining your health\n\ncan be\, because when you're working long hours\, escorting the kids\n\naround town\, and juggling just about everything else in between\, it's\n\neasy to let YOUR health take a back seat to YOUR life.  \n\n\n\nWe will talk about how to make good health fun and easy!!\n\n\n\ncall today to reserve your spot Space is limited.\n\n\n\n763 205 3781
X-ALT-DESC;FMTTYPE=text/html:<span style="color: rgb(0\, 0\, 0)\; font-family: Arimo\, sans-serif\; font-size: 13px\;">At HealthSource\, we understand how hard maintaining your health</span><br style="color: rgb(0\, 0\, 0)\; font-family: Arimo\, sans-serif\; font-size: 13px\;" />\n<span style="color: rgb(0\, 0\, 0)\; font-family: Arimo\, sans-serif\; font-size: 13px\;">can be\, because when you&rsquo\;re working long hours\, escorting the kids</span><br style="color: rgb(0\, 0\, 0)\; font-family: Arimo\, sans-serif\; font-size: 13px\;" />\n<span style="color: rgb(0\, 0\, 0)\; font-family: Arimo\, sans-serif\; font-size: 13px\;">around town\, and juggling just about everything else in between\, it&rsquo\;s</span><br style="color: rgb(0\, 0\, 0)\; font-family: Arimo\, sans-serif\; font-size: 13px\;" />\n<span style="color: rgb(0\, 0\, 0)\; font-family: Arimo\, sans-serif\; font-size: 13px\;">easy to let YOUR health take a back seat to YOUR life. &nbsp\;<br />\n<br />\nWe will talk about how to make good health fun and easy!!<br />\n<br />\ncall today to reserve your spot Space is limited.<br />\n<br />\n763 205 3781</span><br />\n&nbsp\;
LOCATION:HealthSource Blaine 10904 Baltimore st NE Blaine MN 55449
UID:e.380.151526
SEQUENCE:3
DTSTAMP:20260423T210116Z
URL:http://members.metronorthchamber.org/events/details/health-made-simple-eat-well-09-16-2014-151526
END:VEVENT

END:VCALENDAR
