BEGIN:VCALENDAR
VERSION:2.0
PRODID:-//ChamberMaster//Event Calendar 2.0//EN
METHOD:PUBLISH
X-PUBLISHED-TTL:P3D
REFRESH-INTERVAL:P3D
CALSCALE:GREGORIAN
BEGIN:VEVENT
DTSTART:20190514T230000Z
DTEND:20190515T003000Z
X-MICROSOFT-CDO-ALLDAYEVENT:FALSE
SUMMARY:Health Expo
DESCRIPTION:North Metro Health Expo at Anytime Fitness Ham Lake\n\n \n\nChair massages\, vendors\, Tiki Hut\, raffle\, and more!\n\nSwag bags to the 1st 50 attendees!\n\nJoin us for a great evening! Open to ALL!
X-ALT-DESC;FMTTYPE=text/html:<p style="margin: 0px\;"><span style="margin: 0px\; color: black\; font-family: &quot\;Times New Roman&quot\;\,serif\; font-size: 13.5pt\;">&nbsp\;</span></p>\n\n<p style="margin: 0px\;"><span style="margin: 0px\; color: black\; font-family: &quot\;Times New Roman&quot\;\,serif\; font-size: 13.5pt\;">North Metro Health Expo at Anytime Fitness Ham Lake</span></p>\n\n<p style="margin: 0px\;">&nbsp\;</p>\n\n<p style="margin: 0px\;"><span style="margin: 0px\; color: black\; font-family: &quot\;Times New Roman&quot\;\,serif\; font-size: 13.5pt\;">Chair massages\, vendors\, Tiki Hut\, raffle\, and more!</span></p>\n\n<p style="margin: 0px\;"><span style="margin: 0px\; color: black\; font-family: &quot\;Times New Roman&quot\;\,serif\; font-size: 13.5pt\;">Swag bags to the 1<sup>st</sup>&nbsp\;50 attendees!</span></p>\n\n<p style="margin: 0px\;"><span style="margin: 0px\; color: black\; font-family: &quot\;Times New Roman&quot\;\,serif\; font-size: 13.5pt\;">Join us for a great evening! Open to ALL!</span></p>\n
LOCATION:Anytime Fitness Ham Lake
UID:e.380.188977
SEQUENCE:3
DTSTAMP:20260420T022823Z
URL:http://members.metronorthchamber.org/events/details/health-expo-188977
END:VEVENT

END:VCALENDAR
