BEGIN:VCALENDAR
VERSION:2.0
PRODID:-//ChamberMaster//Event Calendar 2.0//EN
METHOD:PUBLISH
X-PUBLISHED-TTL:P3D
REFRESH-INTERVAL:P3D
CALSCALE:GREGORIAN
BEGIN:VEVENT
DTSTART:20140104T010000Z
DTEND:20140104T023000Z
X-MICROSOFT-CDO-ALLDAYEVENT:FALSE
SUMMARY:Health Awareness Seminar at The Power Within
DESCRIPTION:We are all faced with different health challenges at some point in our lives. Because nothing is more important than our health\, we would like to invite you to join us in learning about some of the latest advances in the science of Natural Health and Wellness.\n\n\n\nA Simple and Natural Approach to Wellness with a Focus on:\n\n	\n		Fibromyalgia        Arthritis/Inflammation             Candida & Yeast Infection\n	\n		Migraines             MS                                          High Blood Pressure\n	\n		Low Energy         Osteoporosis                          Immune Deficiency\n	\n		ADD/ADHD         Asthma & Allergies                 Indigestion & Heartburn\n	\n		Diabetes              Carpal Tunnel Pain                 Cataracts/Glaucoma\n	\n		High Cholesterol  Cancer Risk                            Heart Attacks & Strokes\n\n\n\nWe are sure you will enjoy the information\, and look forward to your visit. Seating is very limited   reserve your seat ASAP!\n\nCall Marisa Reyes at 763-464-8682 or register at www.CoachMarisa.com/events
X-ALT-DESC;FMTTYPE=text/html:We are all faced with different health challenges at some point in our lives. Because nothing is more important than our health\, we would like to invite you to join us in learning about some of the latest advances in the science of Natural Health and Wellness.<br />\n<br />\nA Simple and Natural Approach to Wellness with a Focus on:\n<ul>\n	<li>\n		Fibromyalgia&nbsp\;&nbsp\;&nbsp\;&nbsp\;&nbsp\;&nbsp\; &nbsp\;Arthritis/Inflammation&nbsp\;&nbsp\;&nbsp\;&nbsp\;&nbsp\;&nbsp\;&nbsp\;&nbsp\;&nbsp\;&nbsp\;&nbsp\;&nbsp\;&nbsp\;Candida &amp\; Yeast Infection</li>\n	<li>\n		Migraines&nbsp\;&nbsp\;&nbsp\;&nbsp\;&nbsp\;&nbsp\;&nbsp\; &nbsp\;&nbsp\;&nbsp\;&nbsp\; MS&nbsp\;&nbsp\;&nbsp\;&nbsp\;&nbsp\;&nbsp\;&nbsp\;&nbsp\;&nbsp\;&nbsp\;&nbsp\;&nbsp\;&nbsp\;&nbsp\;&nbsp\;&nbsp\;&nbsp\;&nbsp\;&nbsp\;&nbsp\;&nbsp\;&nbsp\;&nbsp\;&nbsp\;&nbsp\;&nbsp\;&nbsp\;&nbsp\;&nbsp\;&nbsp\;&nbsp\;&nbsp\;&nbsp\;&nbsp\;&nbsp\;&nbsp\;&nbsp\;&nbsp\;&nbsp\;&nbsp\;&nbsp\; High Blood Pressure</li>\n	<li>\n		Low Energy&nbsp\;&nbsp\;&nbsp\;&nbsp\;&nbsp\;&nbsp\;&nbsp\;&nbsp\; Osteoporosis&nbsp\;&nbsp\;&nbsp\;&nbsp\;&nbsp\;&nbsp\;&nbsp\;&nbsp\;&nbsp\;&nbsp\;&nbsp\;&nbsp\;&nbsp\;&nbsp\; &nbsp\;&nbsp\;&nbsp\;&nbsp\;&nbsp\;&nbsp\;&nbsp\;&nbsp\;&nbsp\;&nbsp\;&nbsp\;Immune Deficiency</li>\n	<li>\n		ADD/ADHD&nbsp\;&nbsp\;&nbsp\;&nbsp\;&nbsp\;&nbsp\;&nbsp\;&nbsp\;&nbsp\;Asthma &amp\; Allergies&nbsp\;&nbsp\;&nbsp\;&nbsp\;&nbsp\;&nbsp\;&nbsp\;&nbsp\;&nbsp\;&nbsp\;&nbsp\;&nbsp\;&nbsp\;&nbsp\;&nbsp\;&nbsp\; Indigestion &amp\; Heartburn</li>\n	<li>\n		Diabetes&nbsp\;&nbsp\; &nbsp\;&nbsp\;&nbsp\;&nbsp\;&nbsp\;&nbsp\;&nbsp\;&nbsp\;&nbsp\;&nbsp\; Carpal Tunnel Pain&nbsp\;&nbsp\;&nbsp\;&nbsp\;&nbsp\;&nbsp\;&nbsp\;&nbsp\;&nbsp\;&nbsp\;&nbsp\;&nbsp\;&nbsp\;&nbsp\;&nbsp\;&nbsp\; Cataracts/Glaucoma</li>\n	<li>\n		High Cholesterol&nbsp\; Cancer Risk&nbsp\;&nbsp\;&nbsp\;&nbsp\;&nbsp\;&nbsp\;&nbsp\;&nbsp\;&nbsp\;&nbsp\;&nbsp\;&nbsp\;&nbsp\;&nbsp\;&nbsp\;&nbsp\;&nbsp\;&nbsp\;&nbsp\;&nbsp\;&nbsp\;&nbsp\;&nbsp\;&nbsp\;&nbsp\;&nbsp\;&nbsp\; Heart Attacks &amp\; Strokes</li>\n</ul>\n<br />\nWe are sure you will enjoy the information\, and look forward to your visit. Seating is very limited &ndash\; reserve your seat ASAP!<br />\nCall Marisa Reyes at 763-464-8682 or register at&nbsp\;<u><a href="http://www.CoachMarisa.com/events"><span style="color:#0000ff\;">www.CoachMarisa.com/events</span></a></u><br />\n
LOCATION:7851 Sunnyside Road\, Mounds View\, MN 55112
UID:e.380.150041
SEQUENCE:3
DTSTAMP:20260424T093117Z
URL:http://members.metronorthchamber.org/events/details/health-awareness-seminar-at-the-power-within-01-03-2014-150041
END:VEVENT

END:VCALENDAR
