BEGIN:VCALENDAR
VERSION:2.0
PRODID:-//ChamberMaster//Event Calendar 2.0//EN
METHOD:PUBLISH
X-PUBLISHED-TTL:P3D
REFRESH-INTERVAL:P3D
CALSCALE:GREGORIAN
BEGIN:VEVENT
DTSTART:20150926T150000Z
DTEND:20150926T220000Z
X-MICROSOFT-CDO-ALLDAYEVENT:FALSE
SUMMARY:Harvest Fest FUNdraiser
DESCRIPTION:Crafters\, Vendors\, Food\, Music\, Kids' station\, Raffle items\, and more!
X-ALT-DESC;FMTTYPE=text/html:Crafters\, Vendors\, Food\, Music\, Kids&#39\; station\, Raffle items\, and more!
LOCATION:Life Prep Academy 1628 County Highway 10 NE Spring Lake Park 55432
UID:e.380.159549
SEQUENCE:3
DTSTAMP:20260423T042627Z
URL:http://members.metronorthchamber.org/events/details/harvest-fest-fundraiser-09-26-2015-159549
END:VEVENT

END:VCALENDAR
