BEGIN:VCALENDAR
VERSION:2.0
PRODID:-//ChamberMaster//Event Calendar 2.0//EN
METHOD:PUBLISH
X-PUBLISHED-TTL:P3D
REFRESH-INTERVAL:P3D
CALSCALE:GREGORIAN
BEGIN:VEVENT
DTSTART:20160924T150000Z
DTEND:20160924T220000Z
X-MICROSOFT-CDO-ALLDAYEVENT:FALSE
SUMMARY:Harvest Fest
DESCRIPTION:Vendors\, crafters\, food\, raffle\, games for kids
X-ALT-DESC;FMTTYPE=text/html:Vendors\, crafters\, food\, raffle\, games for kids
LOCATION:
UID:e.380.169321
SEQUENCE:3
DTSTAMP:20260422T052050Z
URL:http://members.metronorthchamber.org/events/details/harvest-fest-169321
END:VEVENT

END:VCALENDAR
