BEGIN:VCALENDAR
VERSION:2.0
PRODID:-//ChamberMaster//Event Calendar 2.0//EN
METHOD:PUBLISH
X-PUBLISHED-TTL:P3D
REFRESH-INTERVAL:P3D
CALSCALE:GREGORIAN
BEGIN:VEVENT
DTSTART:20141018T150000Z
DTEND:20141018T220000Z
X-MICROSOFT-CDO-ALLDAYEVENT:FALSE
SUMMARY:Harvent Fest FUNdraiser
DESCRIPTION:Crafters\, vendors\, silent auction\, concession\, kids' activity table\, more
X-ALT-DESC;FMTTYPE=text/html:Crafters\, vendors\, silent auction\, concession\, kids&#39\; activity table\, more
LOCATION:1628 county highway 10 NE\; Spring Lake Park
UID:e.380.151667
SEQUENCE:3
DTSTAMP:20260423T192025Z
URL:http://members.metronorthchamber.org/events/details/harvent-fest-fundraiser-10-18-2014-151667
END:VEVENT

END:VCALENDAR
