BEGIN:VCALENDAR
VERSION:2.0
PRODID:-//ChamberMaster//Event Calendar 2.0//EN
METHOD:PUBLISH
X-PUBLISHED-TTL:P3D
REFRESH-INTERVAL:P3D
CALSCALE:GREGORIAN
BEGIN:VEVENT
DTSTART:20180602T160000Z
DTEND:20180602T220000Z
X-MICROSOFT-CDO-ALLDAYEVENT:FALSE
SUMMARY:Harley Davidson Crawfish Boil
DESCRIPTION:Who's in the mood for some Crawfish!? Twin Cities Harley-Davidson Blaine's 2nd Annual Summer Open House and Crawfish Boil is just around the corner. \n\n-Free crawfish for the first 500 people\n\n-$1 Beer\, door prizes\, giveaways\, and vendors\n\n-Burgers\, brats\, and full bar specials by Route 47.
X-ALT-DESC;FMTTYPE=text/html:<span style="color: rgb(29\, 33\, 41)\; font-family: Helvetica\, Arial\, sans-serif\; font-size: 14px\; background-color: rgb(255\, 255\, 255)\;">Who&#39\;s in the mood for some Crawfish!? Twin Cities Harley-Davidson Blaine&#39\;s 2nd Annual Summer Open House and Crawfish Boil is just around the corner.&nbsp\;</span><br style="color: rgb(29\, 33\, 41)\; font-family: Helvetica\, Arial\, sans-serif\; font-size: 14px\; background-color: rgb(255\, 255\, 255)\;" />\n<span style="color: rgb(29\, 33\, 41)\; font-family: Helvetica\, Arial\, sans-serif\; font-size: 14px\; background-color: rgb(255\, 255\, 255)\;">-Free crawfish for the first 500 people</span><br style="color: rgb(29\, 33\, 41)\; font-family: Helvetica\, Arial\, sans-serif\; font-size: 14px\; background-color: rgb(255\, 255\, 255)\;" />\n<span style="color: rgb(29\, 33\, 41)\; font-family: Helvetica\, Arial\, sans-serif\; font-size: 14px\; background-color: rgb(255\, 255\, 255)\;">-$1 Beer\, door prizes\, giveaways\, and vendors</span><br style="color: rgb(29\, 33\, 41)\; font-family: Helvetica\, Arial\, sans-serif\; font-size: 14px\; background-color: rgb(255\, 255\, 255)\;" />\n<span style="color: rgb(29\, 33\, 41)\; font-family: Helvetica\, Arial\, sans-serif\; font-size: 14px\; background-color: rgb(255\, 255\, 255)\;">-Burgers\, brats\, and full bar specials by Route 47.</span><br style="color: rgb(29\, 33\, 41)\; font-family: Helvetica\, Arial\, sans-serif\; font-size: 14px\; background-color: rgb(255\, 255\, 255)\;" />\n&nbsp\;
LOCATION:Twin Cities Harley Davidson 1355 98TH AVE | BLAINE\, MN 55434
UID:e.380.184871
SEQUENCE:3
DTSTAMP:20260420T195231Z
URL:http://members.metronorthchamber.org/events/details/harley-davidson-crawfish-boil-184871
END:VEVENT

END:VCALENDAR
