BEGIN:VCALENDAR
VERSION:2.0
PRODID:-//ChamberMaster//Event Calendar 2.0//EN
METHOD:PUBLISH
X-PUBLISHED-TTL:P3D
REFRESH-INTERVAL:P3D
CALSCALE:GREGORIAN
BEGIN:VEVENT
DTSTART:20140318T230000Z
DTEND:20140319T010000Z
X-MICROSOFT-CDO-ALLDAYEVENT:FALSE
SUMMARY:Hands-On Cooking Class: The Power Within
DESCRIPTION:During the winter it can be all too easy to get stuck in a cooking rut\, making the same dishes over and over.  Whether it's to save time or just because it's hard to feel creative when you've been cooped up for months.  Fortunately your healthy cooking expert\, Marisa Reyes\, is here to liven up your winter and get you back in a creative mood.  In this hands  on class\, you'll learn how to roast chicken to achieve moist and flavorful results every time.\n\n\n\nOn the menu:\n\n	Butterfly Roasted Chicken & Vegetables\,\n	Homemade Oh-So Sweet Potato Fries\,\n	Vanilla Berry Balsamic Salad your entire family will devour\n	Guilt-free dessert.  \n\nHurry!  Only a few spots remain.\n\n\n\nRegistration Deadline: March 11th\n\nTuition: Adults $40\, kids ages 8 and up $15 with paid adult\n\nWhere: 515 - 120th Lane\, Coon Rapids\, MN 55448
X-ALT-DESC;FMTTYPE=text/html:During the winter it can be all too easy to get stuck in a cooking rut\, making the same dishes over and over.&nbsp\; Whether it&#39\;s to save time or just because it&rsquo\;s hard to feel creative when you&rsquo\;ve been cooped up for months.&nbsp\; Fortunately your healthy cooking expert\, Marisa Reyes\, is here to liven up your winter and get you back in a creative mood.&nbsp\; In this hands &ndash\;on class\, you&rsquo\;ll learn how to roast chicken to achieve moist and flavorful results every time.<br />\n<br />\nOn the menu:\n<ul>\n	<li>Butterfly Roasted Chicken &amp\; Vegetables\,</li>\n	<li>Homemade Oh-So Sweet Potato Fries\,</li>\n	<li>Vanilla Berry Balsamic Salad your entire family will devour</li>\n	<li>Guilt-free dessert.&nbsp\;&nbsp\;</li>\n</ul>\nHurry!&nbsp\; Only a few spots remain.<br />\n<br />\n<strong>Registration Deadline: March 11th</strong><br />\n<strong>Tuition</strong>: Adults $40\, kids ages 8 and up $15 with paid adult<br />\n<strong>Where</strong>: 515 - 120th Lane\, Coon Rapids\, MN 55448
LOCATION:515 - 120th Lane\, Coon Rapids\, MN 55448
UID:e.380.150336
SEQUENCE:3
DTSTAMP:20260424T061917Z
URL:http://members.metronorthchamber.org/events/details/hands-on-cooking-class-the-power-within-03-18-2014-150336
END:VEVENT

END:VCALENDAR
