BEGIN:VCALENDAR
VERSION:2.0
PRODID:-//ChamberMaster//Event Calendar 2.0//EN
METHOD:PUBLISH
X-PUBLISHED-TTL:P3D
REFRESH-INTERVAL:P3D
CALSCALE:GREGORIAN
BEGIN:VEVENT
DTSTART:20180728T230000Z
DTEND:20180730T030000Z
X-MICROSOFT-CDO-ALLDAYEVENT:FALSE
SUMMARY:Handicapping Herpetologist Weekend
DESCRIPTION:Saturday\, July 28: 1st Race 6pm\n\nExotic reptiles on display\, Wild Rose Studios on-site (tickets available soon)\, live music after the races with Jake Nelson\, and more!\n\nSunday\, July 29: 1st Race 6pm\n\nExotic reptiles on display\, kids coloring contest\, and more!
X-ALT-DESC;FMTTYPE=text/html:<p><strong>Saturday\, July 28:&nbsp\;</strong>1st Race 6pm<br />\nExotic reptiles on display\, Wild Rose Studios on-site (tickets available soon)\, live music after the races with Jake Nelson\, and more!<br />\n<strong>Sunday\, July 29:&nbsp\;</strong><span style="background-color:rgba(255\, 255\, 255\, 0.701961)\; font-family:helvetica neue\,helvetica\,arial\,sans-serif\; font-size:14px">1st Race 6pm</span><br />\n<span style="background-color:rgba(255\, 255\, 255\, 0.701961)\; font-family:helvetica neue\,helvetica\,arial\,sans-serif\; font-size:14px">Exotic reptiles on display\, kids coloring contest\, and more!</span></p>\n
LOCATION:Running Aces Casino & Racetrack 15201 Zurich Street NE Columbus 55025
UID:e.380.185727
SEQUENCE:3
DTSTAMP:20260420T182347Z
URL:http://members.metronorthchamber.org/events/details/handicapping-herpetologist-weekend-185727
END:VEVENT

END:VCALENDAR
