BEGIN:VCALENDAR
VERSION:2.0
PRODID:-//ChamberMaster//Event Calendar 2.0//EN
METHOD:PUBLISH
X-PUBLISHED-TTL:P3D
REFRESH-INTERVAL:P3D
CALSCALE:GREGORIAN
BEGIN:VEVENT
DTSTART:20120210T233000Z
DTEND:20120211T210000Z
X-MICROSOFT-CDO-ALLDAYEVENT:FALSE
SUMMARY:Ham Lake Snow Bowl
DESCRIPTION:HAM LAKE SNOWBOWL\n\n	February 10-11\, 2012\n\n	\n\n	$3.00 BUTTON ENTRY PER PERSON\nFriday\, February 10th\n\n5-10PM\n\nMusic and Karaoke\n\nRefreshments Available for Purchase\n\nCome watch the snow sculptures in action!\n\n\n	Saturday\, February 11th\n\n	Main Events 9am - 3pm\n\n	Broomball Tournament 7am - 6pm\n\n	Ice Fishing Contest 11am - 2pm\n\n	Snow Golf 9am - 3pm\n\n	Skijoring Race Starts 10am\n\n	Sled Dog Race Starts 11am\n\n	Sled Dog Rides 10:30am - 3pm\n\n	Dog Pull Competition Noon\n\n	Vintage Snowmobile & Expo Rodeo 12:30pm\n\n	Helicopter Rides (Weather Permitting) 10:30-2:30\n\n	Snow Sculpture Judging 2:30pm\n\n	Final Awards Presentation 2:45pm \n\n	Food and Refreshments will be available!
X-ALT-DESC;FMTTYPE=text/html:<p class="style4">\n	<span style="font-size:10px\;"><span style="font-family: tahoma\;"><strong><span class="style7">HAM LAKE SNOWBOWL</span><br />\n	February 10-11\, 2012<br />\n	<br />\n	<span class="style7">$3.00 BUTTON ENTRY PER PERSON</span></strong></span></span></p>\n<strong><span style="font-size:10px\;"><span style="font-family: tahoma\;"><span class="style7">Friday\, February 10th</span></span></span><br />\n<span style="font-size: 10px\;"><span style="font-family: tahoma\;"><span class="style7">5-10PM</span></span></span></strong><br />\n<span style="font-size:10px\;"><span style="font-family: tahoma\;"><span class="style7"><span class="style3">Music and Karaoke</span></span></span></span><br />\n<span style="font-size:10px\;"><span style="font-family: tahoma\;"><span class="style7">Refreshments Available for Purchase</span></span></span><br />\n<span style="font-size:10px\;"><span style="font-family: tahoma\;"><span class="style7">Come watch the snow sculptures in action!</span></span></span><br />\n<p>\n	<strong><span style="font-size: 10px\;"><span style="font-family: tahoma\;"><span class="style7">Saturday\, February 11th<br />\n	<span class="style3">Main Events 9am - 3pm</span></span></span></span></strong><br />\n	<span style="font-size:10px\;"><span style="font-family: tahoma\;"><span class="style7">Broomball Tournament 7am - 6pm<br />\n	Ice Fishing Contest 11am - 2pm<br />\n	Snow Golf 9am - 3pm<br />\n	Skijoring Race Starts 10am<br />\n	Sled Dog Race Starts 11am<br />\n	Sled Dog Rides 10:30am - 3pm<br />\n	Dog Pull Competition Noon<br />\n	Vintage Snowmobile &amp\; Expo Rodeo 12:30pm<br />\n	Helicopter Rides (Weather Permitting) 10:30-2:30<br />\n	Snow Sculpture Judging 2:30pm<br />\n	Final Awards Presentation 2:45pm&nbsp\;</span></span></span></p>\n<p>\n	<span style="font-size: 10px\;"><span style="font-family: tahoma\;"><span class="style7"><em><span class="style3">Food and Refreshments will be available! </span></em></span></span></span></p>\n
LOCATION:NE Corner of Hwy 65 and 153rd\, Ham Lake MN
UID:e.380.143466
SEQUENCE:3
DTSTAMP:20260425T231604Z
URL:http://members.metronorthchamber.org/events/details/ham-lake-snow-bowl-02-10-2012-143466
END:VEVENT

END:VCALENDAR
