BEGIN:VCALENDAR
VERSION:2.0
PRODID:-//ChamberMaster//Event Calendar 2.0//EN
METHOD:PUBLISH
X-PUBLISHED-TTL:P3D
REFRESH-INTERVAL:P3D
CALSCALE:GREGORIAN
BEGIN:VEVENT
DTSTART:20191027T000000Z
DTEND:20191027T040000Z
X-MICROSOFT-CDO-ALLDAYEVENT:FALSE
SUMMARY:Halloween Party
DESCRIPTION:Children will enjoy a costume contest\, trick-or treating\, playing games\, open gym time\, and of course going through our famous Haunted House!  Children can choose the level of "scariness" they want for the Haunted House so it suits all ages.
X-ALT-DESC;FMTTYPE=text/html:Children will enjoy a costume contest\, trick-or treating\, playing games\, open gym time\, and of course going through our famous Haunted House!&nbsp\; Children can choose the level of &quot\;scariness&quot\; they want for the Haunted House so it suits all ages.
LOCATION:1460 133rd Lane NE\, Ham Lake
UID:e.380.191438
SEQUENCE:3
DTSTAMP:20260419T180155Z
URL:http://members.metronorthchamber.org/events/details/halloween-party-191438
END:VEVENT

END:VCALENDAR
