BEGIN:VCALENDAR
VERSION:2.0
PRODID:-//ChamberMaster//Event Calendar 2.0//EN
METHOD:PUBLISH
X-PUBLISHED-TTL:P3D
REFRESH-INTERVAL:P3D
CALSCALE:GREGORIAN
BEGIN:VEVENT
DTSTART:20190501T230000Z
DTEND:20190502T003000Z
X-MICROSOFT-CDO-ALLDAYEVENT:FALSE
SUMMARY:Guide to Retirement
DESCRIPTION:Preparing for Retirement\; Living in Retirement\n\nProduct Partner: Tom Parnell of JP Morgan
X-ALT-DESC;FMTTYPE=text/html:Preparing for Retirement\; Living in Retirement<br />\nProduct Partner: Tom Parnell of JP Morgan
LOCATION:Edward Jones 2197 Silver Lake Road New Brighton\, MN 55112
UID:e.380.188453
SEQUENCE:3
DTSTAMP:20260420T022355Z
URL:http://members.metronorthchamber.org/events/details/guide-to-retirement-188453
END:VEVENT

END:VCALENDAR
