BEGIN:VCALENDAR
VERSION:2.0
PRODID:-//ChamberMaster//Event Calendar 2.0//EN
METHOD:PUBLISH
X-PUBLISHED-TTL:P3D
REFRESH-INTERVAL:P3D
CALSCALE:GREGORIAN
BEGIN:VEVENT
DTSTART;VALUE=DATE:20140901
DTEND;VALUE=DATE:20141001
TRANSP:TRANSPARENT
X-MICROSOFT-CDO-ALLDAYEVENT:TRUE
SUMMARY:Guide Dogs Photo Fundraiser!
DESCRIPTION:FUNDRAISER\n\n\n\nIn Honor & Memory of: EDITH (our sister in law's guide dog)\n \n\nTo Benefit: GUIDE DOGS FOR THE BLIND\n\nGuide Dogs for the Blind envisions a world with greater inclusion\, opportunity\, and independence by optimizing the unique capabilities of people and dogs.  They empower lives by creating exceptional partnerships between people\, dogs\, and communities.\n\n                  \n\n \n\nLeah's Story\n\n \n\nEdith changed my life in unimaginable ways.\n\nI got Edith on July 4th 2001.  This brought a whole new meaning to the idea of Independence Day.  I had no idea how much I needed her until I had her. My life began to change in ways I never dreamed of.\n\nBecause of Edith I was able to spread my wings and explore life on my own.  There were a number of extreme life challenges over the 13 years I had Edith.  She was the one constant.  Having her by my side gave me strength and courage to carry on regardless of how difficult life became.  She guided me through physical obstacles and supported me through the emotional ones.\n\nIt is difficult to put in to words the preciousness of the bond we shared and only other people with a service dog can truly understand it but it is not an exaggeration when I say Edith brought me to life and gave me what I needed at exactly the right time every day for 13 wonderful years.\n\nLosing her was one of the more difficult things I have experienced but this also opens the door for the next amazing guide.  Edith is absolutely irreplaceable but I have no doubt that my next guide will have a unique impact on my life and I can't wait to meet him/her.\n\n \n\nWho do you know that has a furry family member?\n\n \n\nSpecial September Sessions Available:\n\n$250 includes a 30-60 minute studio (indoor or outdoor) session and disk of all images\n\n*On location available for an additional $75.\n\n*This deal is only valid if your pet is in the photo.\n\n*Cannot be combined with other promotions.\n\n \n\nDuring the month of SEPTEMBER\, Divine photography will be donating $50 from every family / pet session to Guide Dogs for the Blind.\n\n \n\nREFER A FRIEND\n\nwww.divinephoto.net          jenny@divinephoto.net         612-387-7573          www.facebook.com/divinephotomn
X-ALT-DESC;FMTTYPE=text/html:<div style="text-align: center\;"><span style="font-size:18.0pt\;"><strong><u>FUNDRAISER</u></strong></span></div>\n\n<div style="text-align: center\;"><br />\n<strong>In Honor &amp\; Memory of: EDITH (our sister in law&rsquo\;s guide dog)</strong></div>\n&nbsp\;<br />\n<strong>To Benefit: GUIDE DOGS FOR THE BLIND</strong><br />\n<em>Guide Dogs for the Blind envisions a world with greater inclusion\, opportunity\, and independence by optimizing the unique capabilities of people and dogs.&nbsp\; They empower lives by creating exceptional partnerships between people\, dogs\, and communities.</em><br />\n&nbsp\;<strong><em>&nbsp\;&nbsp\;&nbsp\;&nbsp\;&nbsp\;&nbsp\;&nbsp\;&nbsp\;&nbsp\;&nbsp\;&nbsp\;&nbsp\;&nbsp\;&nbsp\;&nbsp\;&nbsp\; </em></strong><br />\n&nbsp\;<br />\n<span style="font-size:24.0pt\;"><strong><u>Leah&rsquo\;s Story</u></strong></span><br />\n&nbsp\;<br />\n<span style="font-family:times-roman\;"><em>Edith changed my life in unimaginable ways.</em></span><br />\n<span style="font-family:times-roman\;"><em>I got Edith on July 4<sup>th</sup> 2001.&nbsp\; This brought a whole new meaning to the idea of Independence Day.&nbsp\; I had no idea how much I needed her until I had her. My life began to change in ways I never dreamed of.</em></span><br />\n<span style="font-family:times-roman\;"><em>Because of Edith I was able to spread my wings and explore life on my own.&nbsp\; There were a number of extreme life challenges over the 13 years I had Edith.&nbsp\; She was the one constant.&nbsp\; Having her by my side gave me strength and courage to carry on regardless of how difficult life became.&nbsp\; She guided me through physical obstacles and supported me through the emotional ones.</em></span><br />\n<span style="font-family:times-roman\;"><em>It is difficult to put in to words the preciousness of the bond we shared and only other people with a service dog can truly understand it but it is not an exaggeration when I say Edith brought me to life and gave me what I needed at exactly the right time every day for 13 wonderful years.</em></span><br />\n<span style="font-family:times-roman\;"><em>Losing her was one of the more difficult things I have experienced but this also opens the door for the next amazing guide.&nbsp\; Edith is absolutely irreplaceable but I have no doubt that my next guide will have a unique impact on my life and I can&rsquo\;t wait to meet him/her.</em></span><br />\n&nbsp\;<br />\n<span style="font-size:22px\;"><strong><em>Who do you know that has a furry family member?</em></strong></span><br />\n&nbsp\;<br />\n<span style="font-size:14.0pt\;"><strong><em>Special September Sessions Available:</em></strong></span><br />\n<span style="font-size:14.0pt\;"><em>$250 includes a 30-60 minute studio (indoor or outdoor) session and disk of all images</em></span><br />\n<em>*On location available for an additional $75.</em><br />\n<em>*This deal is only valid if your pet is in the photo.</em><br />\n<em>*Cannot be combined with other promotions.</em><br />\n&nbsp\;<br />\n<span style="font-size:14.0pt\;"><strong>During the month of SEPTEMBER\, Divine photography will be </strong></span><span style="font-size:14.0pt\;"><strong>donating $50 from every family / pet session to Guide Dogs for the Blind.</strong></span><br />\n&nbsp\;<br />\n<span style="font-size:18.0pt\;"><strong>REFER A FRIEND</strong></span><br />\n<strong>www.divinephoto.net&nbsp\;&nbsp\;&nbsp\;&nbsp\;&nbsp\;&nbsp\;&nbsp\;&nbsp\;&nbsp\; jenny@divinephoto.net&nbsp\;&nbsp\;&nbsp\;&nbsp\;&nbsp\;&nbsp\;&nbsp\;&nbsp\; 612-387-7573&nbsp\;&nbsp\;&nbsp\;&nbsp\;&nbsp\;&nbsp\;&nbsp\;&nbsp\;&nbsp\; www.facebook.com/divinephotomn&nbsp\;&nbsp\;&nbsp\;&nbsp\;&nbsp\;&nbsp\;&nbsp\;&nbsp\;&nbsp\;&nbsp\;&nbsp\;&nbsp\;&nbsp\;&nbsp\;&nbsp\;&nbsp\;&nbsp\;&nbsp\;&nbsp\;&nbsp\;&nbsp\;&nbsp\;&nbsp\;&nbsp\;&nbsp\;&nbsp\;&nbsp\;&nbsp\;&nbsp\;&nbsp\;&nbsp\;&nbsp\;&nbsp\;&nbsp\;&nbsp\; </strong>
LOCATION:Divine Photography Indoor / Outdoor Studio in Ramsey
UID:e.380.151582
SEQUENCE:3
DTSTAMP:20260423T210013Z
URL:http://members.metronorthchamber.org/events/details/guide-dogs-photo-fundraiser-09-01-2014-151582
END:VEVENT

END:VCALENDAR
