BEGIN:VCALENDAR
VERSION:2.0
PRODID:-//ChamberMaster//Event Calendar 2.0//EN
METHOD:PUBLISH
X-PUBLISHED-TTL:P3D
REFRESH-INTERVAL:P3D
CALSCALE:GREGORIAN
BEGIN:VEVENT
DTSTART:20131025T123000Z
DTEND:20131025T170000Z
X-MICROSOFT-CDO-ALLDAYEVENT:FALSE
SUMMARY:GrowthCLUB Q4 - Challenge Your Business
DESCRIPTION:What is GrowthCLUB and what will it do for me?\n\n\n\n	It's all about initiating change...not reacting to it.\n\n\n\n	GrowthCLUB is a combination of building relationships\, stretching your thinking\, and setting a course for your business. As long as you remain the same\, you can expect the same "sameness" from your business. If you're like most business owners\, you want to win and win BIG!\n\n	\n\n	You'll walk away with distinct goals\, a clear vision\, and renewed passion to finish the year strong!\n\n	\n\n	JOIN US!\n\n	\n\n	Seats are limited REGISTER Today!\n\n	 \n\n	Register at: www.GrowthCLUBChallenge.eventbrite.com\n\n	\n		Half-Day Workshop - $49\n	\n		Create momentum -- Leave fired-up about where your business is headed \n	\n		A ready-to-implement\, real time 90-Day Plan \n	\n		Hear how others are building their businesses \n\n\n	It's all about Speed to Results!
X-ALT-DESC;FMTTYPE=text/html:<h3>\n	<span style="font-size:20px\;">What is <span style="color:#b22222\;">Growth</span><span style="color:#0000cd\;">CLUB</span> and what will it do for me?</span></h3>\n<br />\n<h4>\n	<span style="font-size:18px\;">It&#39\;s all about initiating change...not reacting to it.</span></h4>\n<br />\n<div>\n	<span style="font-size:16px\;"><strong><span style="color:#b22222\;">Growth</span><span style="color:#0000cd\;">CLUB</span></strong> is a combination of building relationships\, stretching your thinking\, and setting a course for your business. As long as you remain the same\, you can expect the same &quot\;sameness&quot\; from your business. If you&#39\;re like most business owners\, you want to win and win BIG!</span></div>\n<div>\n	<br />\n	<span style="font-size:16px\;">You&#39\;ll walk away with distinct goals\, a clear vision\, and renewed passion to finish the year strong!</span></div>\n<div>\n	<br />\n	<span style="font-size:16px\;">JOIN US!<br />\n	<br />\n	<strong><span style="color:#b22222\;">Seats are limited&hellip\;REGISTER Today!</span></strong></span><br />\n	&nbsp\;</div>\n<div>\n	<span style="color:#0000cd\;"><span style="font-size:16px\;"><strong>Register at</strong>: <em><strong>www.GrowthCLUBChallenge.eventbrite.com</strong></em></span></span></div>\n<ul>\n	<li>\n		<span style="font-size:16px\;">Half-Day Workshop - $49</span></li>\n	<li>\n		<span style="font-size:16px\;">Create momentum -- Leave fired-up about where your business is headed&hellip\;</span></li>\n	<li>\n		<span style="font-size:16px\;">A ready-to-implement\, real time 90-Day Plan&hellip\;</span></li>\n	<li>\n		<span style="font-size:16px\;">Hear how others are building their businesses&hellip\;</span></li>\n</ul>\n<div>\n	<span style="font-size:16px\;"><strong>It&rsquo\;s all about <em>Speed</em> to Results!</strong></span></div>\n
LOCATION:ActionCOACH MetroNorth 6575 141st Avenue NW\, Suite 100 Ramsey\, MN 55303
UID:e.380.149841
SEQUENCE:3
DTSTAMP:20260424T144225Z
URL:http://members.metronorthchamber.org/events/details/growthclub-q4-challenge-your-business-10-25-2013-149841
END:VEVENT

END:VCALENDAR
