BEGIN:VCALENDAR
VERSION:2.0
PRODID:-//ChamberMaster//Event Calendar 2.0//EN
METHOD:PUBLISH
X-PUBLISHED-TTL:P3D
REFRESH-INTERVAL:P3D
CALSCALE:GREGORIAN
BEGIN:VEVENT
DTSTART:20130429T140000Z
DTEND:20130429T153000Z
X-MICROSOFT-CDO-ALLDAYEVENT:FALSE
SUMMARY:Grow Your Business Without Cash ~ Boomerang
DESCRIPTION:Grow Your Business Without Cash - Free Workshop hosted by Nancy Morell of Boomerang
X-ALT-DESC;FMTTYPE=text/html:Grow Your Business Without Cash - Free Workshop hosted by Nancy Morell of Boomerang
LOCATION:MNC Chamber Office 9380 Central Ave. NE Ste # 320 Blaine\, MN 55434
UID:e.380.148881
SEQUENCE:3
DTSTAMP:20260425T002723Z
URL:http://members.metronorthchamber.org/events/details/grow-your-business-without-cash-boomerang-04-29-2013-148881
END:VEVENT

END:VCALENDAR
