BEGIN:VCALENDAR
VERSION:2.0
PRODID:-//ChamberMaster//Event Calendar 2.0//EN
METHOD:PUBLISH
X-PUBLISHED-TTL:P3D
REFRESH-INTERVAL:P3D
CALSCALE:GREGORIAN
BEGIN:VEVENT
DTSTART:20170629T210000Z
DTEND:20170629T220000Z
X-MICROSOFT-CDO-ALLDAYEVENT:FALSE
SUMMARY:Groundbreaking Harley Davidson Blaine
DESCRIPTION:Groundbreaking at Harley Davidson Blaine\n\nHOG (Harley Owner Group) Members will be riding their bikes there\n\nphoto opportunity with the motorcycles\n\ngive-aways    \n\nopen field parking
X-ALT-DESC;FMTTYPE=text/html:Groundbreaking at Harley Davidson Blaine<br />\nHOG (Harley Owner Group) Members will be riding their bikes there<br />\nphoto opportunity with the motorcycles<br />\ngive-aways&nbsp\;&nbsp\;&nbsp\;&nbsp\;<br />\nopen field parking
LOCATION:9751 Ulysses St NE Blaine\, MN 55434
UID:e.380.175124
SEQUENCE:3
DTSTAMP:20260421T135101Z
URL:http://members.metronorthchamber.org/events/details/groundbreaking-harley-davidson-blaine-175124
END:VEVENT

END:VCALENDAR
