BEGIN:VCALENDAR
VERSION:2.0
PRODID:-//ChamberMaster//Event Calendar 2.0//EN
METHOD:PUBLISH
X-PUBLISHED-TTL:P3D
REFRESH-INTERVAL:P3D
CALSCALE:GREGORIAN
BEGIN:VEVENT
DTSTART:20170515T210000Z
DTEND:20170515T220000Z
X-MICROSOFT-CDO-ALLDAYEVENT:FALSE
SUMMARY:Ground Breaking -Jam Hops Gymnastics\, Dance\, Cheer & Leap-N-Learn Preschool
DESCRIPTION:Groundbreaking Ceremony and Ribbon Cutting to celebrate Jam Hops!
X-ALT-DESC;FMTTYPE=text/html:Groundbreaking Ceremony and Ribbon Cutting to celebrate Jam Hops!
LOCATION:1460 133rd Lane NE Ham Lake\, MN 55304 Street Parking
UID:e.380.173372
SEQUENCE:3
DTSTAMP:20260421T152843Z
URL:http://members.metronorthchamber.org/events/details/ground-breaking-jam-hops-gymnastics-dance-cheer-leap-n-learn-preschool-173372
END:VEVENT

END:VCALENDAR
