BEGIN:VCALENDAR
VERSION:2.0
PRODID:-//ChamberMaster//Event Calendar 2.0//EN
METHOD:PUBLISH
X-PUBLISHED-TTL:P3D
REFRESH-INTERVAL:P3D
CALSCALE:GREGORIAN
BEGIN:VEVENT
DTSTART:20151217T174500Z
DTEND:20151217T183000Z
X-MICROSOFT-CDO-ALLDAYEVENT:FALSE
SUMMARY:Ground Breaking at Mickman Brothers
DESCRIPTION:You're invited to a ground breaking at Mickman Brothers to celebrate the addition of a new office building on their property. Food & refreshments will be provided.
X-ALT-DESC;FMTTYPE=text/html:You&rsquo\;re invited to a ground breaking at Mickman Brothers to celebrate the addition of a new office building on their property. Food &amp\; refreshments will be provided.
LOCATION:Mickman Brothers\, Inc. 14630 Highway 65 Ham Lake\, MN 55304
UID:e.380.159874
SEQUENCE:3
DTSTAMP:20260422T221845Z
URL:http://members.metronorthchamber.org/events/details/ground-breaking-at-mickman-brothers-12-17-2015-159874
END:VEVENT

END:VCALENDAR
