BEGIN:VCALENDAR
VERSION:2.0
PRODID:-//ChamberMaster//Event Calendar 2.0//EN
METHOD:PUBLISH
X-PUBLISHED-TTL:P3D
REFRESH-INTERVAL:P3D
CALSCALE:GREGORIAN
BEGIN:VEVENT
DTSTART:20120425T160000Z
DTEND:20120425T180000Z
X-MICROSOFT-CDO-ALLDAYEVENT:FALSE
SUMMARY:Green Mill Networking Lunch and Learn
DESCRIPTION:Join us for the Coon Rapids Networking Lunch. \n\n	 \nThis event follows the Email Marketing workshop by Constant Contact\n\n\n\n\n	When: Wednesday April 25th 11:00 AM to 1:00 PM\n\n	(Back to normal Thursdays in two weeks)\n\n	Cost: $10 covers lunch\, drink\, tax and tip.\n\n	Where: Green Mill Coon Rapids\n\n	Why: To Network and grow your business of course!\n\n	We want to develop a core group of business owners and professionals who attend regularly and we also welcome all newcomers who are just as serious about growing their business\, professional relationships\, and do business with each other.\n\n	Here is a snapshot of what you will experience:\n\n	\n		15 to 25 other North Metro professionals and business owners to network with.\n	\n		Feature spotlight on one or two attendees to learn more about their business.\n	\n		A delicious spread of food by Green Mill for only $10.\n	\n		An opportunity to develop strategic partnerships and alliances in the North Metro.\n	\n		Lessons from a "Connector" on effective networking\n\n\n	 \n\n	If Your looking for a new opportunity to network in the North Metro\, this may be the place for you.  Come check it out\, you will be glad you did!
X-ALT-DESC;FMTTYPE=text/html:<p style="text-align: center">\n	<strong><span style="font-size: large">Join us for the Coon Rapids Networking Lunch</span>.&nbsp\;</strong></p>\n<p style="text-align: center">\n	&nbsp\;</p>\nThis event follows the Email Marketing workshop by Constant Contact<br />\n<br />\n<p style="text-align: left">\n	<strong>When: Wednesday April 25th 11:00 AM to 1:00 PM</strong></p>\n<p style="text-align: left">\n	<strong>(Back to normal Thursdays in two weeks)</strong></p>\n<p style="text-align: left">\n	<strong>Cost: $10 covers lunch\, drink\, tax and tip.</strong></p>\n<p style="text-align: left">\n	<strong>Where: Green Mill Coon Rapids</strong></p>\n<p style="text-align: left">\n	<strong>Why: To Network and grow your business of course!</strong></p>\n<p style="text-align: left">\n	We want to develop a core group of business owners and professionals who attend regularly and we also welcome all newcomers who are just as serious about growing their business\, professional relationships\, and do business with each other.</p>\n<p style="text-align: left">\n	Here is a snapshot of what you will experience:</p>\n<ul>\n	<li>\n		15 to 25 other North Metro professionals and business owners to network with.</li>\n	<li>\n		Feature spotlight on one or two attendees to learn more about their business.</li>\n	<li>\n		A delicious spread of food by Green Mill for only $10.</li>\n	<li>\n		An opportunity to develop strategic partnerships and alliances in the North Metro.</li>\n	<li>\n		Lessons from a &quot\;Connector&quot\; on effective networking</li>\n</ul>\n<p style="text-align: center">\n	&nbsp\;</p>\n<p style="text-align: center">\n	<strong>If Your looking for a new opportunity to network in the North Metro\, this may be the place for you.&nbsp\; Come check it out\, you will be glad you did!</strong></p>\n
LOCATION:Where Green Mill - Coon Rapids 12475 Riverdale Blvd NW Coon Rapids\, MN 55433
UID:e.380.143794
SEQUENCE:3
DTSTAMP:20260425T192115Z
URL:http://members.metronorthchamber.org/events/details/green-mill-networking-lunch-and-learn-04-25-2012-143794
END:VEVENT

END:VCALENDAR
