BEGIN:VCALENDAR
VERSION:2.0
PRODID:-//ChamberMaster//Event Calendar 2.0//EN
METHOD:PUBLISH
X-PUBLISHED-TTL:P3D
REFRESH-INTERVAL:P3D
CALSCALE:GREGORIAN
BEGIN:VEVENT
DTSTART:20150504T160000Z
DTEND:20150508T230000Z
X-MICROSOFT-CDO-ALLDAYEVENT:FALSE
SUMMARY:Greater Midwest Realty - forest Lake Grand Opening
DESCRIPTION:Greater Midwest Realty Forest Lake Grand Opening. Enjoy refreshments\, drawings\, & Give-a-ways! Stop in anytime!
X-ALT-DESC;FMTTYPE=text/html:Greater Midwest Realty Forest Lake Grand Opening. Enjoy refreshments\, drawings\, &amp\; Give-a-ways! Stop in anytime!
LOCATION:167 North Lake Street\, Forest Lake\, MN
UID:e.380.157294
SEQUENCE:3
DTSTAMP:20260423T083936Z
URL:http://members.metronorthchamber.org/events/details/greater-midwest-realty-forest-lake-grand-opening-05-04-2015-157294
END:VEVENT

END:VCALENDAR
