BEGIN:VCALENDAR
VERSION:2.0
PRODID:-//ChamberMaster//Event Calendar 2.0//EN
METHOD:PUBLISH
X-PUBLISHED-TTL:P3D
REFRESH-INTERVAL:P3D
CALSCALE:GREGORIAN
BEGIN:VEVENT
DTSTART:20120919T210000Z
DTEND:20120920T000000Z
X-MICROSOFT-CDO-ALLDAYEVENT:FALSE
SUMMARY:Greater Midwest Realty Fall Appreciation Party!
DESCRIPTION:Greater Midwest Realty invites you to our Fall Appreciation Party. Simply You Jewelry will be coming in to show their new beautiful Fall and Winter collections. Free bottle of wine just for coming. Ladies- shop for yourself! Guys- plan ahead for holiday gift giving! Special Deals will be available courtesy of Greater Midwest Realty. Refreshments and Hors d'oeuvres will be served. If you would like to receive a flyer for this event or RSVP please email kristine@greatermidwestrealty.com. \n\n\n\nHope to see you there!
X-ALT-DESC;FMTTYPE=text/html:Greater Midwest Realty invites you to our Fall Appreciation Party. Simply You Jewelry will be coming in to show their new beautiful Fall and Winter collections. Free bottle of wine just for coming. Ladies- shop for yourself! Guys- plan ahead for holiday gift giving! Special Deals will be available courtesy of Greater Midwest Realty.&nbsp\;Refreshments and Hors d&#39\;oeuvres will be served. If you would like to receive a flyer for this event or RSVP please email kristine@greatermidwestrealty.com.&nbsp\;<br />\n<br />\nHope to see you there!&nbsp\;<br />\n<br />\n
LOCATION:12760 Aberdeen St. NE\, Blaine MN 55449
UID:e.380.146216
SEQUENCE:3
DTSTAMP:20260425T113416Z
URL:http://members.metronorthchamber.org/events/details/greater-midwest-realty-fall-appreciation-party-09-19-2012-146216
END:VEVENT

END:VCALENDAR
