BEGIN:VCALENDAR
VERSION:2.0
PRODID:-//ChamberMaster//Event Calendar 2.0//EN
METHOD:PUBLISH
X-PUBLISHED-TTL:P3D
REFRESH-INTERVAL:P3D
CALSCALE:GREGORIAN
BEGIN:VEVENT
DTSTART;VALUE=DATE:20130409
DTEND;VALUE=DATE:20130410
TRANSP:TRANSPARENT
X-MICROSOFT-CDO-ALLDAYEVENT:TRUE
SUMMARY:Grass Roots Co-op Three Year Anniversary Celebration!
DESCRIPTION:Join us at the Grass Roots Co-op in Anoka for our Anniversary Celebration on Tuesday\, April 9 from 10 a.m. to 3 p.m. Enjoy vendor demos\, samples\, give-aways and music. \n\n\n\nGrass Roots Co-op is the place where you will find fresh\, organic and gluten-free products\; free-range meats\, eco-friendly skin care and home care products\, nutritional supplements\, artisan wares and a gourmet deli and bakery.
X-ALT-DESC;FMTTYPE=text/html:Join us at the Grass Roots Co-op in Anoka for our Anniversary Celebration on Tuesday\, April 9 from 10 a.m. to 3 p.m. Enjoy vendor demos\, samples\, give-aways and music.&nbsp\;<br />\n<br />\nGrass Roots Co-op is the place where you will find fresh\, organic and gluten-free products\; free-range meats\, eco-friendly skin care and home care products\, nutritional supplements\, artisan wares and a gourmet deli and bakery.&nbsp\;<br />\n&nbsp\;<br />\n<br />\n<br />\n
LOCATION:1917 2nd Ave\, Anoka\, Mn 55303
UID:e.380.148727
SEQUENCE:3
DTSTAMP:20260425T002048Z
URL:http://members.metronorthchamber.org/events/details/grass-roots-co-op-three-year-anniversary-celebration-04-09-2013-148727
END:VEVENT

END:VCALENDAR
