BEGIN:VCALENDAR
VERSION:2.0
PRODID:-//ChamberMaster//Event Calendar 2.0//EN
METHOD:PUBLISH
X-PUBLISHED-TTL:P3D
REFRESH-INTERVAL:P3D
CALSCALE:GREGORIAN
BEGIN:VEVENT
DTSTART:20190122T230000Z
DTEND:20190125T010000Z
X-MICROSOFT-CDO-ALLDAYEVENT:FALSE
SUMMARY:Timeless Elements Med Spa newest location in Blaine Grand Opening!
DESCRIPTION:You are invited to help us celebrate our newest location in Blaine!  Demos and Specials each evening!  Drawings for products and services.
X-ALT-DESC;FMTTYPE=text/html:You are invited to help us celebrate our newest location in Blaine!&nbsp\; Demos and Specials each evening!&nbsp\; Drawings for products and services.<br />\n<br />\n<br />\n<br />\n&nbsp\;
LOCATION:10950 Club West Parkway NE Suite 150 Blaine\, MN 55449
UID:e.380.187874
SEQUENCE:3
DTSTAMP:20260420T121246Z
URL:http://members.metronorthchamber.org/events/details/grand-opening-timeless-elements-med-spa-laser-center-187874
END:VEVENT

END:VCALENDAR
