BEGIN:VCALENDAR
VERSION:2.0
PRODID:-//ChamberMaster//Event Calendar 2.0//EN
METHOD:PUBLISH
X-PUBLISHED-TTL:P3D
REFRESH-INTERVAL:P3D
CALSCALE:GREGORIAN
BEGIN:VEVENT
DTSTART;VALUE=DATE:20120321
DTEND;VALUE=DATE:20120322
TRANSP:TRANSPARENT
X-MICROSOFT-CDO-ALLDAYEVENT:TRUE
SUMMARY:Grand Opening of Cardinal Stritch University-Coon Rapids
DESCRIPTION:The grand opening events are open to the public and include several opportunities to experience Stritch. A professional workshop delivered by Stritch alumna\, Sheri Stolp\, MBA\, PHR titled\, "The Power of People: Driving Change and Building Organizational Courage within Today's Workplace" is scheduled from 11 a.m. - 3 p.m. This workshop assists leaders and HR professionals in understanding behavioral and leadership styles\, the implications/liabilities of passive supervision and several proven strategies in fostering positive\, productive workplaces. Topics covered include HR's role in driving change\, HR/line leader partnerships and more. This is a rich opportunity for networking and professional development. Go to www.stritch.edu/humancapital to register. Chamber members receive a 50% discount.\n\n\n\nFollowing the workshop\, an Open House will take place from 3:00 p.m. - 6:30 p.m. Meet the Dean\, Dr. Peter J. Holbrook\, take tours of the site\, enjoy light snacks/refreshments\, and converse with students\, faculty and staff.
X-ALT-DESC;FMTTYPE=text/html:The grand opening events are open to the public and include several opportunities to experience Stritch. A professional workshop delivered by Stritch alumna\, Sheri Stolp\, MBA\, PHR titled\, &quot\;The Power of People: Driving Change and Building Organizational Courage within Today&#39\;s Workplace&quot\; is scheduled from 11 a.m. - 3 p.m. This workshop assists leaders and HR professionals in understanding behavioral and leadership styles\, the implications/liabilities of passive supervision and several proven strategies in fostering positive\, productive workplaces. Topics covered include HR&#39\;s role in driving change\, HR/line leader partnerships and more. This is a rich opportunity for networking and professional development. Go to www.stritch.edu/humancapital to register. <strong>Chamber members receive a 50% discount.</strong><br />\n<br />\nFollowing the workshop\, an Open House will take place from 3:00 p.m. - 6:30 p.m. Meet the Dean\, Dr. Peter J. Holbrook\, take tours of the site\, enjoy light snacks/refreshments\, and converse with students\, faculty and staff.<br />\n
LOCATION:Springbrook Executive Plaza\, 9145 Springbrook Dr.\, Suite 201\, Coon Rapids\, MN 55433.
UID:e.380.143502
SEQUENCE:3
DTSTAMP:20260425T211234Z
URL:http://members.metronorthchamber.org/events/details/grand-opening-of-cardinal-stritch-university-coon-rapids-03-21-2012-143502
END:VEVENT

END:VCALENDAR
