BEGIN:VCALENDAR
VERSION:2.0
PRODID:-//ChamberMaster//Event Calendar 2.0//EN
METHOD:PUBLISH
X-PUBLISHED-TTL:P3D
REFRESH-INTERVAL:P3D
CALSCALE:GREGORIAN
BEGIN:VEVENT
DTSTART:20190815T220000Z
DTEND:20190816T020000Z
X-MICROSOFT-CDO-ALLDAYEVENT:FALSE
SUMMARY:GRAND OPENING EXTRAVAGANZA Coon Rapids Chrysler Dodge Jeep Ram
DESCRIPTION:
X-ALT-DESC;FMTTYPE=text/html:
LOCATION:Coon Rapids Chrysler Dodge Jeep Ram 10541 Woodcrest Drive Coon Rapids\, MN 55433
UID:e.380.190974
SEQUENCE:3
DTSTAMP:20260419T212528Z
URL:http://members.metronorthchamber.org/events/details/grand-opening-extravaganza-190974
END:VEVENT

END:VCALENDAR
