BEGIN:VCALENDAR
VERSION:2.0
PRODID:-//ChamberMaster//Event Calendar 2.0//EN
METHOD:PUBLISH
X-PUBLISHED-TTL:P3D
REFRESH-INTERVAL:P3D
CALSCALE:GREGORIAN
BEGIN:VEVENT
DTSTART:20170617T170000Z
DTEND:20170617T220000Z
X-MICROSOFT-CDO-ALLDAYEVENT:FALSE
SUMMARY:Grand Opening - Cricket Wireless
DESCRIPTION:Grand Opening at Cricket Wireless in Blaine!\n\nPrizes\, giveaways\, and more!\n\nBBQ\, face painting\, create your own sundae and raffles!\n\nKFAN radio will be present\n\nKids can do some arts and crafts to create their own Father's Day Card!
X-ALT-DESC;FMTTYPE=text/html:Grand Opening at Cricket Wireless in Blaine!<br />\nPrizes\, giveaways\, and more!<br />\nBBQ\, face painting\, create your own sundae and raffles!<br />\nKFAN radio will be present<br />\nKids can do some arts and crafts to create their own Father&#39\;s Day Card!
LOCATION:601 County Rd 10 Blaine
UID:e.380.175133
SEQUENCE:3
DTSTAMP:20260421T135230Z
URL:http://members.metronorthchamber.org/events/details/grand-opening-cricket-wireless-175133
END:VEVENT

END:VCALENDAR
