BEGIN:VCALENDAR
VERSION:2.0
PRODID:-//ChamberMaster//Event Calendar 2.0//EN
METHOD:PUBLISH
X-PUBLISHED-TTL:P3D
REFRESH-INTERVAL:P3D
CALSCALE:GREGORIAN
BEGIN:VEVENT
DTSTART:20190329T203000Z
DTEND:20190331T190000Z
X-MICROSOFT-CDO-ALLDAYEVENT:FALSE
SUMMARY:Grand Opening - Club Pilates Blaine
DESCRIPTION:Club Pilates is excited to be part of the Blaine community and is holding a Grand Opening Weekend - March 29-31.\n\nThere will be a ribbon cutting ceremony on Friday\, March 29th at 4:15pm.  Come see the facility\, meet the team\, and learn more about the benefits of Pilates.  Snacks and beverages will be provided.\n\nOn Saturday and Sunday Club Pilates will have several Free Intro Classes throughout the day.  Check out our website to see the details and sign up for a class - www.ClubPilates.com/Blaine.  \n\nAll weekend there will be raffles\, prizes\, a retail sale\, studio tours\, and plenty of fun.\n\nStudio: 763-888-0003 or Blaine@ClubPilates.com.
X-ALT-DESC;FMTTYPE=text/html:Club Pilates is excited to be part of the Blaine community and is holding a Grand Opening Weekend - March 29-31.<br />\nThere will be a ribbon cutting ceremony on Friday\, March 29th at 4:15pm.&nbsp\; Come see the facility\, meet the team\, and learn more about the benefits of Pilates.&nbsp\; Snacks and beverages will be provided.<br />\nOn Saturday and Sunday Club Pilates will have several Free Intro Classes throughout the day.&nbsp\; Check out our website to see the details and sign up for a class - www.ClubPilates.com/Blaine.&nbsp\;&nbsp\;<br />\nAll weekend there will be raffles\, prizes\, a retail sale\, studio tours\, and plenty of fun.<br />\nStudio: 763-888-0003 or Blaine@ClubPilates.com.&nbsp\;&nbsp\;
LOCATION:10945 Club West Parkway NE\, Suite 150\, Blaine\, MN. 55449.
UID:e.380.188838
SEQUENCE:3
DTSTAMP:20260420T060730Z
URL:http://members.metronorthchamber.org/events/details/grand-opening-club-pilates-blaine-188838
END:VEVENT

END:VCALENDAR
