BEGIN:VCALENDAR
VERSION:2.0
PRODID:-//ChamberMaster//Event Calendar 2.0//EN
METHOD:PUBLISH
X-PUBLISHED-TTL:P3D
REFRESH-INTERVAL:P3D
CALSCALE:GREGORIAN
BEGIN:VEVENT
DTSTART:20180122T220000Z
DTEND:20180123T010000Z
X-MICROSOFT-CDO-ALLDAYEVENT:FALSE
SUMMARY:Grand Opening - Anytime Fitness Ham Lake
DESCRIPTION:
X-ALT-DESC;FMTTYPE=text/html:
LOCATION:1460 133rd Lane NE Unit B Ham Lake 55304
UID:e.380.179529
SEQUENCE:3
DTSTAMP:20260421T034958Z
URL:http://members.metronorthchamber.org/events/details/grand-opening-anytime-fitness-ham-lake-179529
END:VEVENT

END:VCALENDAR
