BEGIN:VCALENDAR
VERSION:2.0
PRODID:-//ChamberMaster//Event Calendar 2.0//EN
METHOD:PUBLISH
X-PUBLISHED-TTL:P3D
REFRESH-INTERVAL:P3D
CALSCALE:GREGORIAN
BEGIN:VEVENT
DTSTART:20111129T133000Z
DTEND:20111129T143000Z
X-MICROSOFT-CDO-ALLDAYEVENT:FALSE
SUMMARY:Government Affairs/Legislative Priorities
DESCRIPTION:
X-ALT-DESC;FMTTYPE=text/html:
LOCATION:Connexus Energy\, Ramsey
UID:e.380.142863
SEQUENCE:3
DTSTAMP:20260426T033929Z
URL:http://members.metronorthchamber.org/events/details/government-affairs-legislative-priorities-11-29-2011-142863
END:VEVENT

END:VCALENDAR
