BEGIN:VCALENDAR
VERSION:2.0
PRODID:-//ChamberMaster//Event Calendar 2.0//EN
METHOD:PUBLISH
X-PUBLISHED-TTL:P3D
REFRESH-INTERVAL:P3D
CALSCALE:GREGORIAN
BEGIN:VEVENT
DTSTART:20120321T130000Z
DTEND:20120321T140000Z
X-MICROSOFT-CDO-ALLDAYEVENT:FALSE
SUMMARY:Gov't Affairs hosts Speaker of the House Kurt Zellers
DESCRIPTION:Gov't Affairs will host Speaker of the House Kurt Zellers on Wed March 21\, 8 am at Connexus Energy. Zellers will speak on business issues at the Capitol.\nNo cost\; light breakfast provided. All MetroNorth members welcome.\n\n\n\n**Rescheduled from Wed March 7 due to Sen. Kubly's funeral.**
X-ALT-DESC;FMTTYPE=text/html:<h3>\n	<span style="font-size: 11px"><span style="color: rgb(0\,0\,128)"><span style="font-family: tahoma">Gov&#39\;t Affairs will host Speaker of the House Kurt Zellers on Wed March 21\, 8 am at Connexus Energy. Zellers will speak on </span></span></span><span style="font-size: 11px"><span style="color: rgb(0\,0\,128)"><span style="font-family: tahoma">business issues at the Capitol.</span></span></span></h3>\n<span style="color: #000080"><span style="font-size: 10px"><span style="font-family: tahoma">No cost\; light breakfast provided. All MetroNorth members welcome.<br />\n<br />\n**Rescheduled from Wed March 7 due to Sen. Kubly&#39\;s funeral.**</span></span></span>
LOCATION:Connexus Energy 14601 Ramsey Blvd. Ramsey MN 55303
UID:e.380.143495
SEQUENCE:3
DTSTAMP:20260425T211417Z
URL:http://members.metronorthchamber.org/events/details/gov-t-affairs-hosts-speaker-of-the-house-kurt-zellers-03-21-2012-143495
END:VEVENT

END:VCALENDAR
